BEGIN:VCALENDAR
VERSION:2.0
PRODID:-//WA State Guides Association - ECPv6.15.18//NONSGML v1.0//EN
CALSCALE:GREGORIAN
METHOD:PUBLISH
X-ORIGINAL-URL:https://waguidesassociation.org
X-WR-CALDESC:Events for WA State Guides Association
REFRESH-INTERVAL;VALUE=DURATION:PT1H
X-Robots-Tag:noindex
X-PUBLISHED-TTL:PT1H
BEGIN:VTIMEZONE
TZID:UTC
BEGIN:STANDARD
TZOFFSETFROM:+0000
TZOFFSETTO:+0000
TZNAME:UTC
DTSTART:20190101T000000
END:STANDARD
END:VTIMEZONE
BEGIN:VTIMEZONE
TZID:America/Los_Angeles
BEGIN:DAYLIGHT
TZOFFSETFROM:-0800
TZOFFSETTO:-0700
TZNAME:PDT
DTSTART:20190310T100000
END:DAYLIGHT
BEGIN:STANDARD
TZOFFSETFROM:-0700
TZOFFSETTO:-0800
TZNAME:PST
DTSTART:20191103T090000
END:STANDARD
BEGIN:DAYLIGHT
TZOFFSETFROM:-0800
TZOFFSETTO:-0700
TZNAME:PDT
DTSTART:20200308T100000
END:DAYLIGHT
BEGIN:STANDARD
TZOFFSETFROM:-0700
TZOFFSETTO:-0800
TZNAME:PST
DTSTART:20201101T090000
END:STANDARD
BEGIN:DAYLIGHT
TZOFFSETFROM:-0800
TZOFFSETTO:-0700
TZNAME:PDT
DTSTART:20210314T100000
END:DAYLIGHT
BEGIN:STANDARD
TZOFFSETFROM:-0700
TZOFFSETTO:-0800
TZNAME:PST
DTSTART:20211107T090000
END:STANDARD
END:VTIMEZONE
BEGIN:VEVENT
DTSTART;TZID=UTC:20240301T090000
DTEND;TZID=UTC:20240301T170000
DTSTAMP:20260421T131524
CREATED:20240208T210448Z
LAST-MODIFIED:20240208T210448Z
UID:923-1709283600-1709312400@waguidesassociation.org
SUMMARY:NOF Initial Forecast Released
DESCRIPTION:Attend in person:  \nOffice Building 2 Auditorium\n1115 Washington St SE\, Olympia\, WA 98501 
URL:https://waguidesassociation.org/event/nof-initial-forecast-released/
CATEGORIES:NOF Meeting
END:VEVENT
BEGIN:VEVENT
DTSTART;TZID=UTC:20240228T180000
DTEND;TZID=UTC:20240228T200000
DTSTAMP:20260421T131524
CREATED:20240208T205011Z
LAST-MODIFIED:20240208T205943Z
UID:918-1709143200-1709150400@waguidesassociation.org
SUMMARY:NOF Willapa Bay/Grays Harbor
DESCRIPTION:It appears as though this will be a Zoom meeting and you need to registar at https://wdfw.wa.gov/fishing/management/north-falcon
URL:https://waguidesassociation.org/event/nof-willapa-bay-grays-harbor/
CATEGORIES:NOF Meeting
END:VEVENT
BEGIN:VEVENT
DTSTART;TZID=UTC:20240212T173000
DTEND;TZID=UTC:20240212T193000
DTSTAMP:20260421T131524
CREATED:20240208T204426Z
LAST-MODIFIED:20240208T204426Z
UID:915-1707759000-1707766200@waguidesassociation.org
SUMMARY:WSGA Board Meeting
DESCRIPTION:Check Email for Zoom link to meeting
URL:https://waguidesassociation.org/event/wsga-board-meeting/
CATEGORIES:Meeting
END:VEVENT
BEGIN:VEVENT
DTSTART;TZID=UTC:20230315T120000
DTEND;TZID=UTC:20230315T170000
DTSTAMP:20260421T131524
CREATED:20230224T231003Z
LAST-MODIFIED:20230224T231003Z
UID:826-1678881600-1678899600@waguidesassociation.org
SUMMARY:North of Falcon No. 1: Statewide proposals
DESCRIPTION:Discussion of management objectives and preliminary fishery proposals for sport and commercial fisheries in Puget Sound and coastal Washington\, with limited discussion of the Columbia River and ocean fisheries. This meeting will have both in-person and online attendance options. \nJoin a public meeting:\n12 p.m. to 5 p.m.\nJoin Zoom webinar \nAttend in person:\nLacey Community Center\n6729 Pacific Avenue SE
URL:https://waguidesassociation.org/event/north-of-falcon-no-1-statewide-proposals/
CATEGORIES:NOF Meeting
END:VEVENT
BEGIN:VEVENT
DTSTART;TZID=UTC:20230313T100000
DTEND;TZID=UTC:20230313T140000
DTSTAMP:20260421T131524
CREATED:20230224T230908Z
LAST-MODIFIED:20230224T230908Z
UID:824-1678701600-1678716000@waguidesassociation.org
SUMMARY:NOF Columbia River fisheries discussion
DESCRIPTION:Discussion of forecasts\, management objectives\, and potential fisheries for Columbia River. \nThis meeting will have both in-person and online attendance options\, and the initial overview will be followed by a recreational fishery discussion. \nJoin a public meeting:\n10 a.m. to 2 p.m.\nJoin Microsoft Teams meeting \nAttend in person:\nWDFW Ridgefield office\n5525 S 11th St.
URL:https://waguidesassociation.org/event/nof-columbia-river-fisheries-discussion/
CATEGORIES:NOF Meeting
END:VEVENT
BEGIN:VEVENT
DTSTART;TZID=UTC:20230303T090000
DTEND;TZID=UTC:20230303T150000
DTSTAMP:20260421T131524
CREATED:20230224T230658Z
LAST-MODIFIED:20230224T230658Z
UID:822-1677834000-1677855600@waguidesassociation.org
SUMMARY:NOF Initial forecasts released
DESCRIPTION:WDFW and tribal governments release initial salmon forecasts for Columbia River\, Puget Sound\, and Washington Coast. \nThis meeting will have both in-person and online attendance options. \nJoin a public meeting:\n9 a.m. to 3 p.m.\nJoin Zoom webinar \nAttend in person:\nLacey Community Center\n6729 Pacific Avenue SE
URL:https://waguidesassociation.org/event/nof-initial-forecasts-released/
CATEGORIES:NOF Meeting
END:VEVENT
BEGIN:VEVENT
DTSTART;VALUE=DATE:20230301
DTEND;VALUE=DATE:20230302
DTSTAMP:20260421T131524
CREATED:20230224T225750Z
LAST-MODIFIED:20230301T211141Z
UID:819-1677628800-1677715199@waguidesassociation.org
SUMMARY:NOF Willapa Bay/Grays Harbor forecast meeting
DESCRIPTION:Presentation of management objectives and forecasts for Willapa Bay and Grays Harbor. This meeting will be live-streamed\, but public participation will be limited only to those attending in-person. \nJoin a public meeting:\n6 to 8 p.m.\nAberdeen Log Pavilion\, Morrison Riverfront Park\n1401 Sargent Blvd.\nAberdeen\, WA 98520 \nWatch a live-stream:  \nJoin Zoom Webinar
URL:https://waguidesassociation.org/event/willapa-bay-grays-harbor-forecast-meeting/
CATEGORIES:NOF Meeting
END:VEVENT
BEGIN:VEVENT
DTSTART;TZID=UTC:20220406T180000
DTEND;TZID=UTC:20220406T200000
DTSTAMP:20260421T131524
CREATED:20220322T185525Z
LAST-MODIFIED:20220330T233622Z
UID:652-1649268000-1649275200@waguidesassociation.org
SUMMARY:NOF Grays Harbor Fisheries Discussion
DESCRIPTION:Additional discussion of management objectives and preliminary Grays Harbor fishing opportunities for 2022. \nYou can join via Zoom. You can find the link here; https://wdfw.wa.gov/fishing/management/north-falcon/public-meetings
URL:https://waguidesassociation.org/event/nof-north-coast-straits-and-hood-canal-discussion/
CATEGORIES:Meeting
END:VEVENT
BEGIN:VEVENT
DTSTART;TZID=UTC:20220405T180000
DTEND;TZID=UTC:20220405T200000
DTSTAMP:20260421T131524
CREATED:20220322T185907Z
LAST-MODIFIED:20220330T233452Z
UID:657-1649181600-1649188800@waguidesassociation.org
SUMMARY:Willapa Bay NOF Fisheries Discussion
DESCRIPTION:Additional discussion of forecasts\, management objectives\, and preliminary Willapa Bay fishing opportunities for 2022. \nYou can join via Zoom.  You can find the meeting link here: https://wdfw.wa.gov/fishing/management/north-falcon/public-meetings
URL:https://waguidesassociation.org/event/puget-sound-and-freshwater-sport-discussion/
CATEGORIES:Meeting
END:VEVENT
BEGIN:VEVENT
DTSTART;TZID=UTC:20220401T100000
DTEND;TZID=UTC:20220401T130000
DTSTAMP:20260421T131524
CREATED:20220322T190130Z
LAST-MODIFIED:20220330T233315Z
UID:660-1648807200-1648818000@waguidesassociation.org
SUMMARY:Columbia River NOF Discussion No. 2
DESCRIPTION:Information and analysis of  Columbia River fisheries proposals. With public participation\, WDFW staff will discuss preferred seasons for Columbia River area sport and commercial fisheries. \n\nYou can join this meeting via Zoom.  You can find the  meeting link here: https://wdfw.wa.gov/fishing/management/north-falcon/public-meetings
URL:https://waguidesassociation.org/event/north-of-falcon-no-2-statewide-fishery-proposals/
CATEGORIES:Meeting
END:VEVENT
BEGIN:VEVENT
DTSTART;TZID=UTC:20220401T080000
DTEND;TZID=UTC:20220401T170000
DTSTAMP:20260421T131524
CREATED:20220401T011915Z
LAST-MODIFIED:20220401T011915Z
UID:691-1648800000-1648832400@waguidesassociation.org
SUMMARY:Ad-Hoc Coastal Steelhead Advisory Group Meeting
DESCRIPTION:If you love Steelhead fishing on the vast Coastal Rivers\, you need to be involved in these meetings. \nConventional gear anglers are the target.  Speak up! \nThis link will get you to the next meeting.  You can listen and comment at the end.  https://wdfw.wa.gov/about/advisory/csag#meeting-calendar
URL:https://waguidesassociation.org/event/ad-hoc-coastal-steelhead-advisory-group-meeting/
END:VEVENT
BEGIN:VEVENT
DTSTART;TZID=UTC:20220324T180000
DTEND;TZID=UTC:20220324T200000
DTSTAMP:20260421T131524
CREATED:20220322T185701Z
LAST-MODIFIED:20220322T185701Z
UID:655-1648144800-1648152000@waguidesassociation.org
SUMMARY:NOF Willapa Bay Fisheries discussion
DESCRIPTION:Discussion of forecasts\, management objectives\, and preliminary Willapa Bay fishing opportunities for 2022. \nYou can join via Zoom link.  You can find the link here: https://wdfw.wa.gov/fishing/management/north-falcon/public-meetings
URL:https://waguidesassociation.org/event/nof-willapa-bay-fisheries-discussion/
CATEGORIES:Meeting
END:VEVENT
BEGIN:VEVENT
DTSTART;TZID=UTC:20200307T143000
DTEND;TZID=UTC:20200307T163000
DTSTAMP:20260421T131524
CREATED:20200220T232328Z
LAST-MODIFIED:20200220T232328Z
UID:219-1583591400-1583598600@waguidesassociation.org
SUMMARY:WSGA Meeting Ellensburg
DESCRIPTION:Thinking about joining WSGA?  We will be having a meeting on March 7th in Ellensburg\, WA. Join us.
URL:https://waguidesassociation.org/event/wsga-meeting-ellensburg/
LOCATION:WDFW Office Ellensburg\, 1130 W University Way\, Ellensburg\, WA\, 98926\, United States
CATEGORIES:Meeting
END:VEVENT
BEGIN:VEVENT
DTSTART;TZID=UTC:20200307T090000
DTEND;TZID=UTC:20200307T230000
DTSTAMP:20260421T131524
CREATED:20200220T231813Z
LAST-MODIFIED:20200304T004958Z
UID:216-1583571600-1583622000@waguidesassociation.org
SUMMARY:WSGA Meeting Kennewick
DESCRIPTION:Thinking about joining WSGA?  We will be having a meeting on March 7th in Kennewick\, WA. Join us.
URL:https://waguidesassociation.org/event/wsga-meeting/
LOCATION:Sportmen’s Warehouse\, 6603 W Canal Dr\, Kennewick\, WA\, 99336\, United States
END:VEVENT
BEGIN:VEVENT
DTSTART;TZID=America/Los_Angeles:20200123T083000
DTEND;TZID=America/Los_Angeles:20200123T230000
DTSTAMP:20260421T131524
CREATED:20200108T231527Z
LAST-MODIFIED:20200108T231835Z
UID:119-1579768200-1579820400@waguidesassociation.org
SUMMARY:General Membership Meeting
DESCRIPTION:Annual Meeting – Our annual meeting will be at the Sports Show in Puyallup. January 23rd.  Be at the Gold Gate at 0830 hours to be let in for the meeting.  (You get to stay for the show afterwards)\n\n \nPaul Ockerman has done a phenomenal job as Secretary!  That said\, he has a ton on his plate and his schedule has become more difficult.  Therefore we will be accepting nominations for Secretary at this meeting.  So if you are interested or know someone who is interested\, be at the meeting to provide the nomination.
URL:https://waguidesassociation.org/event/general-membership-meeting/
LOCATION:Washington State Fair\, 110 9th Ave SW\, Puyallup\, WA\, 98371
END:VEVENT
END:VCALENDAR